BEGIN:VCALENDAR
VERSION:2.0
PRODID:SFPL Web Calendar
BEGIN:VEVENT
UID:117200@sfpl.org
DTSTAMP:20251003T000000Z
DTSTART:20251003T000000Z
DTEND:20251003T023000Z
SUMMARY:Social: Living Tattoo Traditions
DESCRIPTION:<p>Join us for the opening reception of <i>Living Tattoo Traditions: American Irezumi and Beyond. </i>Explore the unique ways the art of the tattoo tells stories of identity, place and cross-cultural embodiment and experience: growing comfortable in our skin, our tattooed skin. The reception kicks off with taiko drumming in the Atrium with Wadaiko Newark. Share your own tattoo story, make a wish to the tattoo gods, listen to vinyl spun by DJ Deathbeats and Big Nate and get inspired by all the inked skin! Light snacks will be served. Part of&nbsp;<a href="https://www.sffirstthursday.org/">SF First Thursday Art Walk</a>.</p><p><strong>Program Schedule:&nbsp;</strong></p><p>Taiko Drumming, 5:00–5:30 p.m. Atrium&nbsp;</p><p>Opening Reception, 5:30–7:30 p.m. Jewett Gallery&nbsp;</p><p>&nbsp;</p><p>Wadaiko Newark was formed in November 2002 and is a Taiko group formed in cooperation with the Newark Unified School District and serving the people in Alameda County in California. As part of the local school system, we are able to offer adult evening classes through Adult Education and children’s classes on Saturdays through Wadaiko Newark Children's Group.</p><p><a href="https://wadaikonewark.org/index.html">Wadaiko Newark | Connect</a></p><p><a href="https://www.instagram.com/dj_deathbeats/">DJ Deathbeats | Connect</a></p><p><a href="https://www.instagram.com/prinate/">DJ Big Nate | Connect</a></p><p>&nbsp;</p><h6>John Agcaoili, photographer,<i> </i>Alipate Fetuli (tattoo artist), Jeff Quintano (tattoo artist), Makoto (tattoo artist), 2024. &nbsp;</h6>
LOCATION:Main Library - Jewett Gallery - Lower Level
CLASS:PUBLIC
TRANSP:TRANSPARENT
END:VEVENT
BEGIN:VALARM
TRIGGER:-PT1440M
ACTION:DISPLAY
DESCRIPTION:Event Reminder - Social: Living Tattoo Traditions
END:VALARM
END:VCALENDAR