BEGIN:VCALENDAR
VERSION:2.0
PRODID:SFPL Web Calendar
BEGIN:VEVENT
UID:117600@sfpl.org
DTSTAMP:20250514T170000Z
DTSTART:20250514T170000Z
DTEND:20250514T190000Z
SUMMARY:Tutorial: Microsoft Windows 11—Basics and Tips
DESCRIPTION:<p>This Windows 11 workshop will highlight system settings, navigation and file organization. We will demonstrate how to organize open windows more efficiently, and adjust your screen display and mouse and track pad. The Windows operating system also includes enhanced performance and security features that make everyday tasks smoother and your use of the internet more secure. Space limited. Reservations required: (415) 557-4388.</p><p>The Community Living Campaign (CLC) brings greater joy, health, and connectedness to seniors and people with disabilities in San Francisco through&nbsp;community-building,&nbsp;empowerment, and&nbsp;advocacy.</p><p>Connect: Community Living Campaign&nbsp;<a href="https://sfcommunityliving.org/">Website</a>&nbsp;|&nbsp;<a href="https://www.facebook.com/CommunityLivingCampaign/">Facebook</a>&nbsp;|&nbsp;<a href="https://twitter.com/CLCtweets">Twitter</a></p><p>&nbsp;</p><p>This event is part of&nbsp;<a href="https://sfpl.org/locations/main-library/bridge-main-5th-floor/sf-tech-week">SF Tech Week</a>.</p>
LOCATION:Main Library - Computer Training Center - 5th Fl
CLASS:PUBLIC
TRANSP:TRANSPARENT
END:VEVENT
BEGIN:VALARM
TRIGGER:-PT1440M
ACTION:DISPLAY
DESCRIPTION:Event Reminder - Tutorial: Microsoft Windows 11—Basics and Tips
END:VALARM
END:VCALENDAR