BEGIN:VCALENDAR
VERSION:2.0
PRODID:SFPL Web Calendar
BEGIN:VEVENT
UID:117827@sfpl.org
DTSTAMP:20250713T210000Z
DTSTART:20250713T210000Z
DTEND:20250713T223000Z
SUMMARY:Workshop: Build Your Own Fingerboard Skatepark
DESCRIPTION:<p>Customize a mini skateboard, build cardboard skatepark structures and take home your very own fingerboard. Fingerboard park structures include ramps, rails and jumps. For ages 10 and older.&nbsp;</p><p>Space limited. Seats available first come, first served.</p>
LOCATION:Noe Valley/Sally Brunn - Noe Valley Meeting Room
CLASS:PUBLIC
TRANSP:TRANSPARENT
END:VEVENT
BEGIN:VALARM
TRIGGER:-PT1440M
ACTION:DISPLAY
DESCRIPTION:Event Reminder - Workshop: Build Your Own Fingerboard Skatepark
END:VALARM
END:VCALENDAR