BEGIN:VCALENDAR
VERSION:2.0
PRODID:SFPL Web Calendar
BEGIN:VEVENT
UID:118306@sfpl.org
DTSTAMP:20250807T230000Z
DTSTART:20250807T230000Z
DTEND:20250808T000000Z
SUMMARY:Workshop: Rhythm and Movement with Jarrel Phillips
DESCRIPTION:<p>Learn the moves of Maculele, a West African tribal dance. Build skills in rhythm, stick-patterned partner movements and drumming in a fun, relaxed community and play-based environment.</p><p>Connect:</p><p><a href="https://www.avesidea.org/">Jarrel Phillips - Website</a>&nbsp;|&nbsp;<a href="https://www.instagram.com/jarrelmp/">Jarrel Phillips - Instagram</a></p>
LOCATION:Ingleside - Ingleside Meeting Room
CLASS:PUBLIC
TRANSP:TRANSPARENT
END:VEVENT
BEGIN:VALARM
TRIGGER:-PT1440M
ACTION:DISPLAY
DESCRIPTION:Event Reminder - Workshop: Rhythm and Movement with Jarrel Phillips
END:VALARM
END:VCALENDAR