BEGIN:VCALENDAR
VERSION:2.0
PRODID:SFPL Web Calendar
BEGIN:VEVENT
UID:118560@sfpl.org
DTSTAMP:20250702T220000Z
DTSTART:20250702T220000Z
DTEND:20250702T230000Z
SUMMARY:Workshop: Sudsy Science
DESCRIPTION:<p>Explore the properties of soap and create your own ocean liquid soap to take home. Space limited. Youths under the age of 8 must be accompanied by an adult.</p>
LOCATION:Bayview/Linda Brooks-Burton - Bayview Meeting Room
CLASS:PUBLIC
TRANSP:TRANSPARENT
END:VEVENT
BEGIN:VALARM
TRIGGER:-PT1440M
ACTION:DISPLAY
DESCRIPTION:Event Reminder - Workshop: Sudsy Science
END:VALARM
END:VCALENDAR