BEGIN:VCALENDAR
VERSION:2.0
PRODID:SFPL Web Calendar
BEGIN:VEVENT
UID:119693@sfpl.org
DTSTAMP:20250925T000000Z
DTSTART:20250925T000000Z
DTEND:20250925T010000Z
SUMMARY:Workshop: Introduction to E-Courses
DESCRIPTION:<p>Drop in and learn about e-courses you can access for free with your SFPL library card.</p>
LOCATION:Noe Valley/Sally Brunn - Noe Valley Meeting Room
CLASS:PUBLIC
TRANSP:TRANSPARENT
END:VEVENT
BEGIN:VALARM
TRIGGER:-PT1440M
ACTION:DISPLAY
DESCRIPTION:Event Reminder - Workshop: Introduction to E-Courses
END:VALARM
END:VCALENDAR