BEGIN:VCALENDAR
VERSION:2.0
PRODID:SFPL Web Calendar
BEGIN:VEVENT
UID:121389@sfpl.org
DTSTAMP:20250812T210000Z
DTSTART:20250812T210000Z
DTEND:20250812T230000Z
SUMMARY:Workshop: Block Print Totes
DESCRIPTION:<p>Spark your creativity and make fun fabric block print totes.&nbsp;For ages 12–18.</p>
LOCATION:Main Library - Mix: Lounge - 2nd Fl
CLASS:PUBLIC
TRANSP:TRANSPARENT
END:VEVENT
BEGIN:VALARM
TRIGGER:-PT1440M
ACTION:DISPLAY
DESCRIPTION:Event Reminder - Workshop: Block Print Totes
END:VALARM
END:VCALENDAR