BEGIN:VCALENDAR
VERSION:2.0
PRODID:SFPL Web Calendar
BEGIN:VEVENT
UID:121690@sfpl.org
DTSTAMP:20250627T210000Z
DTSTART:20250627T210000Z
DTEND:20250627T220000Z
SUMMARY:Presentation: A Guide on Proper Waste Sorting and Food Waste Prevention 
DESCRIPTION:<p>Join us for a free public workshop focused on reducing waste and protecting our environment through simple, everyday actions. This interactive session will guide attendees through Recology’s three-bin system—recycle, compost, and landfill—to ensure proper sorting and reduce contamination. You’ll also learn practical food waste prevention tips&nbsp;to save money and resources in your own kitchen.</p><p>Did you know that <strong>over 30% of all food produced globally is wasted each year</strong>? In the U.S. alone, that’s about <strong>$161 billion worth of food</strong>&nbsp;thrown away annually. By making small changes in how we shop, store, and eat food, we can make a big impact.</p><p>Come ready to learn, ask questions, and take home tools to help you live more sustainably!</p><p>Space limited. Registration required: 415-355-2848. (Starting June 1st).</p><p>Connect:</p><p><a href="https://www.sfenvironment.org/">SF Department Environment - Website</a>&nbsp;|<a href="https://www.instagram.com/sfenvironment"> SF Department Environment - Instagram</a>&nbsp;| <a href="https://www.youtube.com/%40sfenvironment/videos">SF Department Environment - YouTube Channel</a></p>
LOCATION:Visitacion Valley - Visitacion Valley Meeting Room
CLASS:PUBLIC
TRANSP:TRANSPARENT
END:VEVENT
BEGIN:VALARM
TRIGGER:-PT1440M
ACTION:DISPLAY
DESCRIPTION:Event Reminder - Presentation: A Guide on Proper Waste Sorting and Food Waste Prevention 
END:VALARM
END:VCALENDAR