BEGIN:VCALENDAR
VERSION:2.0
PRODID:SFPL Web Calendar
BEGIN:VEVENT
UID:122285@sfpl.org
DTSTAMP:20250618T210000Z
DTSTART:20250618T210000Z
DTEND:20250618T220000Z
SUMMARY:Presentation: Changing Careers - Identifying Transferable Skills
DESCRIPTION:<p>Changing Careers provides mid-career professionals and veterans with effective techniques and strategies to consider new career opportunities with the City by identifying transferrable skills. Veterans and military personnel are encouraged to attend this workshop.</p><p>This program is a partnership between San Francisco Public Library and <a href="https://www.sf.gov/city-career-center">City Career Center</a>.</p><p>Learn how to navigate the City Career Center's booking page <a href="https://youtu.be/lX4XtdzX1VI">here</a>.</p>
LOCATION:Main Library
CLASS:PUBLIC
TRANSP:TRANSPARENT
END:VEVENT
BEGIN:VALARM
TRIGGER:-PT1440M
ACTION:DISPLAY
DESCRIPTION:Event Reminder - Presentation: Changing Careers - Identifying Transferable Skills
END:VALARM
END:VCALENDAR