BEGIN:VCALENDAR
VERSION:2.0
PRODID:SFPL Web Calendar
BEGIN:VEVENT
UID:123880@sfpl.org
DTSTAMP:20250927T210000Z
DTSTART:20250927T210000Z
DTEND:20250927T220000Z
SUMMARY:Workshop: First Inventors Presents Parachuting People
DESCRIPTION:<p>Join the activity from First Inventors, Teen presenters of STEM events for youth. Make and play while studying gravity. Make your project indoors, test your project outside. For ages 6 and older.</p>
LOCATION:Merced - Merced General Floor Area
CLASS:PUBLIC
TRANSP:TRANSPARENT
END:VEVENT
BEGIN:VALARM
TRIGGER:-PT1440M
ACTION:DISPLAY
DESCRIPTION:Event Reminder - Workshop: First Inventors Presents Parachuting People
END:VALARM
END:VCALENDAR