BEGIN:VCALENDAR
VERSION:2.0
PRODID:SFPL Web Calendar
BEGIN:VEVENT
UID:124244@sfpl.org
DTSTAMP:20250813T210000Z
DTSTART:20250813T210000Z
DTEND:20250813T220000Z
SUMMARY:Workshop: Ocean Beach Zines: Draw, Fold, Write and Share
DESCRIPTION:<p>Join Outer Sunset artist <a href="https://url.avanan.click/v2/r01/___https://www.jordankushins.com/___.YXAzOnNmZHQyOmE6bzplYzUxYmM2ZGNlNjkxMGU1ZmUxZWNjNjU0ZGViMDI4Zjo3OjRkYzM6Mzk1NGY0YTAxNTMzNjRhNzdjNTgwMjk1ZWQ0YmVjODdmYTNjMDE5MzdmMDJjYmM0OWVmMDRlNzM4OWM2Mzk0ODpoOlQ6Tg">Jordan Kushins</a> to create mini odes to our wild coast —&nbsp;and the creatures, kelp, curiosities and more that make it special.</p>
LOCATION:Ortega - Ortega Meeting Room
CLASS:PUBLIC
TRANSP:TRANSPARENT
END:VEVENT
BEGIN:VALARM
TRIGGER:-PT1440M
ACTION:DISPLAY
DESCRIPTION:Event Reminder - Workshop: Ocean Beach Zines: Draw, Fold, Write and Share
END:VALARM
END:VCALENDAR