BEGIN:VCALENDAR
VERSION:2.0
PRODID:SFPL Web Calendar
BEGIN:VEVENT
UID:124626@sfpl.org
DTSTAMP:20250724T000000Z
DTSTART:20250724T000000Z
DTEND:20250724T010000Z
SUMMARY:Presentation: Intro to Biking in San Francisco
DESCRIPTION:<p>Learn about safe biking in the city and how to use the Bay Wheels bike share program. All attendees receive free rides with Bay Wheels!</p><p>Connect: <a href="https://sfbike.org/resources/urban-bicycling-workshops/">San Francisco Bike Coalition</a></p>
LOCATION:Anza - Anza Meeting Room
CLASS:PUBLIC
TRANSP:TRANSPARENT
END:VEVENT
BEGIN:VALARM
TRIGGER:-PT1440M
ACTION:DISPLAY
DESCRIPTION:Event Reminder - Presentation: Intro to Biking in San Francisco
END:VALARM
END:VCALENDAR