BEGIN:VCALENDAR
VERSION:2.0
PRODID:SFPL Web Calendar
BEGIN:VEVENT
UID:124780@sfpl.org
DTSTAMP:20260223T230000Z
DTSTART:20260223T230000Z
DTEND:20260224T010000Z
SUMMARY:Film: Possessed
DESCRIPTION:<p>A nurse marries the widow of a former patient but begins to suspect that the first wife's death may have been unnatural. <a href="https://en.wikipedia.org/wiki/Possessed_(1947_film)"><i>Possessed</i></a> stars Joan Crawford and Van Heflin.&nbsp;</p><p>TV-PG, 110 mins., 1947. Closed captions (CC) in English.</p>
LOCATION:Golden Gate Valley - Golden Gate Valley Meeting Room
CLASS:PUBLIC
TRANSP:TRANSPARENT
END:VEVENT
BEGIN:VALARM
TRIGGER:-PT1440M
ACTION:DISPLAY
DESCRIPTION:Event Reminder - Film: Possessed
END:VALARM
END:VCALENDAR