BEGIN:VCALENDAR
VERSION:2.0
PRODID:SFPL Web Calendar
BEGIN:VEVENT
UID:126995@sfpl.org
DTSTAMP:20250920T210000Z
DTSTART:20250920T210000Z
DTEND:20250920T220000Z
SUMMARY:Activity: Woodblock Printmaking with Steven Huntley
DESCRIPTION:<p>Explore the art of woodblock printmaking with printmaker Steven Huntley. Pre-carved blocks are available to create stunning prints.&nbsp;For ages 10 and older. &nbsp;</p><p>Steven Huntley is an accomplished printmaker and dedicated teacher with a passion for sharing his craft. His artwork has been showcased in various galleries and has led workshops across community centers and local art institutions. Steven is committed to inspiring participants to express their creativity in a supportive atmosphere. &nbsp;</p>
LOCATION:West Portal - West Portal Teen's Area
CLASS:PUBLIC
TRANSP:TRANSPARENT
END:VEVENT
BEGIN:VALARM
TRIGGER:-PT1440M
ACTION:DISPLAY
DESCRIPTION:Event Reminder - Activity: Woodblock Printmaking with Steven Huntley
END:VALARM
END:VCALENDAR