BEGIN:VCALENDAR
VERSION:2.0
PRODID:SFPL Web Calendar
BEGIN:VEVENT
UID:127173@sfpl.org
DTSTAMP:20260307T190000Z
DTSTART:20260307T190000Z
DTEND:20260307T200000Z
SUMMARY:Activity: Folklórico Dance
DESCRIPTION:<p>Learn playful Mexican Folklórico (or "Florclorico") dance moves and listen to music with Susana Gómez.</p><p>For children and their families.</p><p>Susana Gómez is a proud native of San Francisco's Mission District and the daughter of immigrants from Michoacán, Mexico. Her art reflects a vibrant blend of her Michoacán roots and the rich cultural tapestry of the Mission, inspired by its flavors, iconic landmarks and diverse community.&nbsp;</p><p>Connect: <a href="https://www.behance.net/susanagomez24">Susana Gómez - Website</a></p>
LOCATION:Glen Park - Glen Park Meeting Room
CLASS:PUBLIC
TRANSP:TRANSPARENT
END:VEVENT
BEGIN:VALARM
TRIGGER:-PT1440M
ACTION:DISPLAY
DESCRIPTION:Event Reminder - Activity: Folklórico Dance
END:VALARM
END:VCALENDAR