BEGIN:VCALENDAR
VERSION:2.0
PRODID:SFPL Web Calendar
BEGIN:VEVENT
UID:128002@sfpl.org
DTSTAMP:20250913T180000Z
DTSTART:20250913T180000Z
DTEND:20250913T190000Z
SUMMARY:Early Learning: Songs and Stories in the Garden
DESCRIPTION:<p>Enjoy nature-themed songs and books in the library's garden courtyard. Craft activity to follow. For children ages 0–5 and their caregivers.&nbsp;</p>
LOCATION:Visitacion Valley - Visitacion Valley Meeting Room
CLASS:PUBLIC
TRANSP:TRANSPARENT
END:VEVENT
BEGIN:VALARM
TRIGGER:-PT1440M
ACTION:DISPLAY
DESCRIPTION:Event Reminder - Early Learning: Songs and Stories in the Garden
END:VALARM
END:VCALENDAR