BEGIN:VCALENDAR
VERSION:2.0
PRODID:SFPL Web Calendar
BEGIN:VEVENT
UID:128028@sfpl.org
DTSTAMP:20250828T000000Z
DTSTART:20250828T000000Z
DTEND:20250828T020000Z
SUMMARY:Presentation: Radiate SF: Immigrant Worker-Owned Cooperative
DESCRIPTION:<p>Learn more about what RadiateSF does, hear their stories and explore ways to collaborate. It’ll be a space for connection, celebration and community-building.</p><p>&nbsp;</p><p>Radiate Consulting SF is a newly formed, worker-owned cooperative made up of 14 member-owners, all graduates of the <strong>DreamSF Fellowship Program</strong>—an initiative designed to empower immigrant youth and fellows with leadership training, professional experience and civic engagement opportunities across San Francisco.</p><p>&nbsp;</p><p>DreamSF opened a powerful path and through it, facilitated lasting connections, professional growth and a shared vision for the 14 graduates and member-owners. That vision led to the establishment of Radiate SF as a cooperative, which means ownership and management of the business together, collective decision-making, sharing responsibilities and creating a democratic workplace focused on equity, transparency and community empowerment.</p><p>&nbsp;</p><p>Connect:&nbsp;</p><p><a href="https://www.dreamsffellows.org/">DreamSF - Website</a></p>
LOCATION:Main Library - Latino/Hispanic Meeting Room A
CLASS:PUBLIC
TRANSP:TRANSPARENT
END:VEVENT
BEGIN:VALARM
TRIGGER:-PT1440M
ACTION:DISPLAY
DESCRIPTION:Event Reminder - Presentation: Radiate SF: Immigrant Worker-Owned Cooperative
END:VALARM
END:VCALENDAR