BEGIN:VCALENDAR
VERSION:2.0
PRODID:SFPL Web Calendar
BEGIN:VEVENT
UID:128252@sfpl.org
DTSTAMP:20250917T000000Z
DTSTART:20250917T000000Z
DTEND:20250917T013000Z
SUMMARY:Presentation: Climate Talks—Slow Fashion with SF Environment
DESCRIPTION:<p>Join us in exploring the current state of fashion in regard to the environment!<br>Fashion is more than just clothing; it's a powerful form of self-expression. In this workshop we will learn, explore, and mingle!</p>
LOCATION:Main Library - Latino/Hispanic Meeting Room A
CLASS:PUBLIC
TRANSP:TRANSPARENT
END:VEVENT
BEGIN:VALARM
TRIGGER:-PT1440M
ACTION:DISPLAY
DESCRIPTION:Event Reminder - Presentation: Climate Talks—Slow Fashion with SF Environment
END:VALARM
END:VCALENDAR