BEGIN:VCALENDAR
VERSION:2.0
PRODID:SFPL Web Calendar
BEGIN:VEVENT
UID:128770@sfpl.org
DTSTAMP:20260820T230000Z
DTSTART:20260820T230000Z
DTEND:20260820T234500Z
SUMMARY:Activity: LEGOs and Musical Instruments
DESCRIPTION:<p>Explore the science of sounds by making simple instruments.&nbsp;</p><p>We'll also have&nbsp;LEGOs&nbsp;galore for building and toys for your littler ones to play with.&nbsp;For ages 5–8.&nbsp;</p><p><br>&nbsp;</p>
LOCATION:North Beach - North Beach Library Community Room
CLASS:PUBLIC
TRANSP:TRANSPARENT
END:VEVENT
BEGIN:VALARM
TRIGGER:-PT1440M
ACTION:DISPLAY
DESCRIPTION:Event Reminder - Activity: LEGOs and Musical Instruments
END:VALARM
END:VCALENDAR