BEGIN:VCALENDAR
VERSION:2.0
PRODID:SFPL Web Calendar
BEGIN:VEVENT
UID:129291@sfpl.org
DTSTAMP:20251022T200000Z
DTSTART:20251022T200000Z
DTEND:20251022T230000Z
SUMMARY:Film: The Heiress
DESCRIPTION:<p>Chinatown Afternoon Movie presents: The Heiress&nbsp;</p><p>Synopsis: &nbsp;A graceful drawing-room drama and piercing character study driven by emotional uncertainty and lacerating cruelty, William Wyler's film, starring Montgomery Clift and Olivia de Havilland (in an Oscar-winning turn), is classic Hollywood filmmaking at its most psychologically nuanced.</p><p>NR, 115 mins., 1949. Subtitles in English.</p>
LOCATION:Chinatown/Him Mark Lai - Chinatown Meeting Room
CLASS:PUBLIC
TRANSP:TRANSPARENT
END:VEVENT
BEGIN:VALARM
TRIGGER:-PT1440M
ACTION:DISPLAY
DESCRIPTION:Event Reminder - Film: The Heiress
END:VALARM
END:VCALENDAR