BEGIN:VCALENDAR
VERSION:2.0
PRODID:SFPL Web Calendar
BEGIN:VEVENT
UID:129600@sfpl.org
DTSTAMP:20251009T223000Z
DTSTART:20251009T223000Z
DTEND:20251009T233000Z
SUMMARY:Activity: STEM Playdate
DESCRIPTION:<p>Explore early childhood engineering and crafts. Activities include KODO water painting, little builders, play doh and more. For ages 3-6.&nbsp;</p><p>&nbsp;</p>
LOCATION:Ocean View - Ocean View Meeting Room
CLASS:PUBLIC
TRANSP:TRANSPARENT
END:VEVENT
BEGIN:VALARM
TRIGGER:-PT1440M
ACTION:DISPLAY
DESCRIPTION:Event Reminder - Activity: STEM Playdate
END:VALARM
END:VCALENDAR