BEGIN:VCALENDAR
VERSION:2.0
PRODID:SFPL Web Calendar
BEGIN:VEVENT
UID:130044@sfpl.org
DTSTAMP:20260517T210000Z
DTSTART:20260517T210000Z
DTEND:20260517T230000Z
SUMMARY:Presentation: Patricia Owen: Design Bookbinding Gallery Walk-Through
DESCRIPTION:<p>Enjoy a tour of the exhibition with bookbinder Eleanore Ramsey.</p>
LOCATION:Main Library - Skylight Gallery - 6th Floor
CLASS:PUBLIC
TRANSP:TRANSPARENT
END:VEVENT
BEGIN:VALARM
TRIGGER:-PT1440M
ACTION:DISPLAY
DESCRIPTION:Event Reminder - Presentation: Patricia Owen: Design Bookbinding Gallery Walk-Through
END:VALARM
END:VCALENDAR