BEGIN:VCALENDAR
VERSION:2.0
PRODID:SFPL Web Calendar
BEGIN:VEVENT
UID:130380@sfpl.org
DTSTAMP:20260221T000000Z
DTSTART:20260221T000000Z
DTEND:20260221T013000Z
SUMMARY:Author: Katie Kitamura in conversation with Karen Russell
DESCRIPTION:<p><strong>Explore the unsettling emotional terrain of </strong><a href="https://sfpl.bibliocommons.com/v2/record/S93C6819510"><i><strong>Audition</strong></i></a><strong> as Katie Kitamura discusses her latest novel in conversation with Karen Russell.</strong></p><p>What happens when a carefully constructed life begins to feel like a performance with no clear audience? <i>Audition</i> by Katie Kitamura is a taut, psychologically charged novel about art, intimacy, and the roles we play for those closest to us. A middle-aged actress finds her sense of self unraveling as rehearsals blur with real life, and long-buried tensions surface in her family and relationships. As conversations grow fraught and silences thicken, certainty gives way to unease. With precise prose and mounting tension, Kitamura probes power, desire, and the fragile boundaries between who we are and who we pretend to be. It’s a quietly gripping exploration of identity, control, and the cost of being truly seen.</p><p>Books will be available for purchase, and a signing with the author will take place in the lobby following the program.</p><p><a href="https://www.katiekitamura.com/"><strong>Katie Kitamura</strong></a><strong> </strong>is the author of <i>Audition</i>, her most recent novel and a finalist for the Booker Prize, as well as a selection for Barack Obama’s 2025 Summer Reads. She is also the author of <a href="https://sfpl.bibliocommons.com/v2/record/S93C4809669"><i>Intimacies</i></a>, named one of <i>The New York Times</i>’ 10 Best Books of 2021 and one of Barack Obama’s favorite books of that year. Her earlier novels include <a href="https://sfpl.bibliocommons.com/v2/record/S93C3309044"><i>A Separation</i></a>, a <i>New York Times</i> Notable Book, and <a href="https://sfpl.bibliocommons.com/v2/record/S93C2528218"><i>Gone to the Forest</i></a> and <a href="https://sfpl.bibliocommons.com/v2/record/S93C2251440"><i>The Longshot</i></a>, both finalists for the New York Public Library’s Young Lions Fiction Award. Her work has been translated into 27 languages and is being adapted for film and television. A recipient of a Guggenheim Fellowship and the Rome Prize in Literature, Kitamura teaches creative writing at New York University.</p><p><a href="https://www.karenrussellauthor.com/"><strong>Karen Russell</strong></a> is the author of six books of fiction, including <a href="https://sfpl.bibliocommons.com/v2/record/S93C2383773"><i>Swamplandia!</i></a>, a <i>New York Times</i> Best Book of the Year and finalist for the Pulitzer Prize, and the bestselling <a href="https://sfpl.bibliocommons.com/v2/record/S93C2581426"><i>Vampires in the Lemon Grove</i></a>. Her latest novel,&nbsp;<a href="https://sfpl.bibliocommons.com/v2/record/S93C6822673"><i>The Antidote</i></a>, was a finalist for the National Book Award and is currently longlisted for the 2026 National Book Critics Circle Award and the PEN America Jean Stein Book Award. Her honors include a MacArthur Fellowship, a Guggenheim Fellowship, and two National Magazine Awards for Fiction. She is a professor of English and Creative Writing at Stanford University.</p>
LOCATION:Main Library - Koret Auditorium
CLASS:PUBLIC
TRANSP:TRANSPARENT
END:VEVENT
BEGIN:VALARM
TRIGGER:-PT1440M
ACTION:DISPLAY
DESCRIPTION:Event Reminder - Author: Katie Kitamura in conversation with Karen Russell
END:VALARM
END:VCALENDAR