BEGIN:VCALENDAR
VERSION:2.0
PRODID:SFPL Web Calendar
BEGIN:VEVENT
UID:130646@sfpl.org
DTSTAMP:20260513T170000Z
DTSTART:20260513T170000Z
DTEND:20260513T180000Z
SUMMARY:Workshop: Transforming Digital Communication
DESCRIPTION:<p>Learn about how browser extensions can be added and how one developed by Autentik AI for Google Chrome browser, can help online communication. Browser extensions work with your favorite internet browser to customize the look or use of the information being processed via the browser.</p><p>Autentik AI's communication assistant helps neurodivergent professionals manage workplace messages with more clarity and less stress. Accessible for free, learn how Autentik AI's browser extension works and if it a good choice for your communication needs.&nbsp; The founder of Autentik AI will be joining us virtually to demonstrate how Autentik AI's communication agent works and explain how it can support your online communication needs.&nbsp;</p><p>This is a hybrid event, simulcast for in person viewing at the Main Library and also viewable via Zoom.&nbsp;</p><p>&nbsp;</p><p>About Autentik AI Inc.:</p><p>We are a team of neurodivergent and neurotypical individuals who believe workplace communication should be clearer and less stressful for everyone. One billion people worldwide are neurodivergent or face communication challenges at work. We are proud to have built a community of more than 55,000 supporters who share our vision of making communication a bridge, not a barrier.</p><p>&nbsp;</p><p>ZOOM Webinar Link: <a href="https://on.sfpl.org/AutentikAI">https://on.sfpl.org/AutentikAI</a></p><p>&nbsp;</p><p>This event is part of&nbsp;<a href="https://sfpl.org/locations/main-library/bridge-main-5th-floor/sf-tech-week">SF Tech Week</a>.</p>
LOCATION:Main Library - Learning Studio - 5th Fl
CLASS:PUBLIC
TRANSP:TRANSPARENT
END:VEVENT
BEGIN:VALARM
TRIGGER:-PT1440M
ACTION:DISPLAY
DESCRIPTION:Event Reminder - Workshop: Transforming Digital Communication
END:VALARM
END:VCALENDAR