BEGIN:VCALENDAR
VERSION:2.0
PRODID:SFPL Web Calendar
BEGIN:VEVENT
UID:130662@sfpl.org
DTSTAMP:20260307T190000Z
DTSTART:20260307T190000Z
DTEND:20260307T220000Z
SUMMARY:Celebration: Open House
DESCRIPTION:<p>Celebrate the branch's 13th Anniversary&nbsp;with an afternoon of festivities for all ages.</p><ul><li><strong>11:00 AM – 12:00 PM:</strong>&nbsp;Line Dancing with Pam</li><li><strong>11:30 AM – 1:30 PM:</strong>&nbsp;Face Painting with Dana</li><li><strong>12:00 PM – 1:00 PM:</strong>&nbsp;Refreshments</li><li><strong>1:00 PM – 2:00 PM:</strong>&nbsp;SF Symphony Community Chamber Concert</li><li>Resource tables, activities for all-ages, and giveaway books throughout the entire event.</li></ul>
LOCATION:Bayview/Linda Brooks-Burton - Bayview Meeting Room
CLASS:PUBLIC
TRANSP:TRANSPARENT
END:VEVENT
BEGIN:VALARM
TRIGGER:-PT1440M
ACTION:DISPLAY
DESCRIPTION:Event Reminder - Celebration: Open House
END:VALARM
END:VCALENDAR