BEGIN:VCALENDAR
VERSION:2.0
PRODID:SFPL Web Calendar
BEGIN:VEVENT
UID:132303@sfpl.org
DTSTAMP:20260207T230000Z
DTSTART:20260207T230000Z
DTEND:20260208T000000Z
SUMMARY:Presentation: Native Stories and Sounds with Paul Steward
DESCRIPTION:<p>Listen to the music and tales from Paul Steward - Native American Musician and Professor.</p><p>Lecturer of Native American/American Indian Studies for CSU since 2016, Professor Steward specializes in the history of California and the local history and culture of the Bay Area and North Bay. Professor Steward is a tribal member of Elem Indian Colony of Pomo Indians of the Sulphur Bank Rancheria near Clearlake Oaks, CA. Paul grew up in his tribe’s traditional culture and music, and learned to play guitar as a teenager. He’s combined traditional Native music with contemporary music styles to make what he calls Native Beat.&nbsp;</p><p>Connect: <a href="https://paul2xg.com/">Paul Steward–Website</a></p>
LOCATION:Park - Park Meeting Room
CLASS:PUBLIC
TRANSP:TRANSPARENT
END:VEVENT
BEGIN:VALARM
TRIGGER:-PT1440M
ACTION:DISPLAY
DESCRIPTION:Event Reminder - Presentation: Native Stories and Sounds with Paul Steward
END:VALARM
END:VCALENDAR