BEGIN:VCALENDAR
VERSION:2.0
PRODID:SFPL Web Calendar
BEGIN:VEVENT
UID:133108@sfpl.org
DTSTAMP:20260425T180000Z
DTSTART:20260425T180000Z
DTEND:20260425T210000Z
SUMMARY:Drawing From Film: Viridiana and Three Year Anniversary Celebration
DESCRIPTION:<p>We'll be pausing Buñuel’s surrealist nun dramedy <i>Viridiana</i>, to draw striking frames. The drawing session will be followed by light refreshments and a chance to celebrate the three year anniversary of the program.</p><p>Basic materials (pencils, paper, erasers) will be provided. You may bring your own materials, but please no fume-creating paint or paint pens. Watercolor, ink and gouache are fine.</p><p>This is a self-led event; there will be no instruction or feedback. However, there will be an opportunity at the end of the session to look at others' drawings and show your own.&nbsp;</p><p>NR, 91 mins., 1961. Subtitles and Closed Captions in English. <strong>Due to pauses for drawing, the full film will not be shown.</strong></p>
LOCATION:Main Library - Latino/Hispanic Meeting Room A
CLASS:PUBLIC
TRANSP:TRANSPARENT
END:VEVENT
BEGIN:VALARM
TRIGGER:-PT1440M
ACTION:DISPLAY
DESCRIPTION:Event Reminder - Drawing From Film: Viridiana and Three Year Anniversary Celebration
END:VALARM
END:VCALENDAR