BEGIN:VCALENDAR
VERSION:2.0
PRODID:SFPL Web Calendar
BEGIN:VEVENT
UID:133115@sfpl.org
DTSTAMP:20251206T190000Z
DTSTART:20251206T190000Z
DTEND:20251206T201500Z
SUMMARY:Activity: SF Ballet's Nutcracker Oral History and Chair Dance Class
DESCRIPTION:<p>This magical holiday tradition&nbsp;starts with a 30-minute talk about San Francisco Ballet’s long history of performing&nbsp;the <i>Nutcracker</i>,&nbsp;followed by a 30-minute fun and easy <i>Nutcracker</i>-​Inspired Chair Dance Class.&nbsp;Bring your friends and family and dance to the famous Tchaikovsky score.&nbsp;Suitable for all ages and abilities.</p><p>The American holiday tradition of <i>Nutcracker</i>&nbsp;performances started here in San Francisco in 1944. This event is a perfect &nbsp;introduction before watching a <a href="https://www.sfballet.org/productions/nutcracker/">live performance of <i>Nutcracker</i></a>&nbsp;in the SF War Memorial Opera House from Dec​ember 5–28, 2025. Sensory Friendly Performance Dec. 28, 11 a.m.</p><p>&nbsp;</p><p>Connect: <a href="https://url.avanan.click/v2/r01/___https://www.sfballet.org/___.YXAzOnNmZHQyOmE6bzo1NDg1ZjFhNGJjYWNmYzY2YWY0OTc0ZWRiNjhiMmRkMDo3OmY4ZWY6MzJmNDQ5Yjc5NWZjYjRiNTg4ZDEzNGYxNWJhYmMyMjYxMzU0OGJiZTBlNDZlODZjZTljZmVmNWRjYmM3ODEyZDpoOlQ6Tg">San Francisco Ballet - Website</a>&nbsp;| <a href="https://url.avanan.click/v2/r01/___https://www.instagram.com/sfballet/___.YXAzOnNmZHQyOmE6bzo1NDg1ZjFhNGJjYWNmYzY2YWY0OTc0ZWRiNjhiMmRkMDo3OmQ3ZWU6NzJkYjEyN2U4ODVhOWYxNjk1ZGJhYzdjMTlmZDBmYmQ0M2UyNjc2NTlkZjQzNWRkOGNjNjJkZDRmZTkzNjkyYzpoOlQ6Tg">San Francisco Ballet -&nbsp;Instagram</a>&nbsp;| <a href="https://url.avanan.click/v2/r01/___https://www.facebook.com/sfballet___.YXAzOnNmZHQyOmE6bzo1NDg1ZjFhNGJjYWNmYzY2YWY0OTc0ZWRiNjhiMmRkMDo3OmNjMDk6Yjg5N2E2NDYyMjY1ZDg3MTE0N2ZkY2FhMTkwMzEwNzViNzM3MWM3YWM3NzM0YzhiMTMwOWEyMzc2N2M5YmMwZDpoOlQ6Tg">San Francisco Ballet -&nbsp;Facebook</a></p>
LOCATION:Main Library - Latino/Hispanic Meeting Room A
CLASS:PUBLIC
TRANSP:TRANSPARENT
END:VEVENT
BEGIN:VALARM
TRIGGER:-PT1440M
ACTION:DISPLAY
DESCRIPTION:Event Reminder - Activity: SF Ballet's Nutcracker Oral History and Chair Dance Class
END:VALARM
END:VCALENDAR