BEGIN:VCALENDAR
VERSION:2.0
PRODID:SFPL Web Calendar
BEGIN:VEVENT
UID:133151@sfpl.org
DTSTAMP:20260519T223000Z
DTSTART:20260519T223000Z
DTEND:20260520T000000Z
SUMMARY:Workshop: DIY Bird Feeder
DESCRIPTION:<p>Make a bird feeder from recycled&nbsp;material. For ages 5 and up. Space limited.</p>
LOCATION:Richmond/Senator Milton Marks - Richmond Meeting Room
CLASS:PUBLIC
TRANSP:TRANSPARENT
END:VEVENT
BEGIN:VALARM
TRIGGER:-PT1440M
ACTION:DISPLAY
DESCRIPTION:Event Reminder - Workshop: DIY Bird Feeder
END:VALARM
END:VCALENDAR