BEGIN:VCALENDAR
VERSION:2.0
PRODID:SFPL Web Calendar
BEGIN:VEVENT
UID:133178@sfpl.org
DTSTAMP:20251230T220000Z
DTSTART:20251230T220000Z
DTEND:20251231T003000Z
SUMMARY:Film: Harry Potter and the Chamber of Secrets
DESCRIPTION:<p>Watch <a href="https://sfpl.bibliocommons.com/v2/record/S93C3281429"><i>Harry Potter and the Chamber of Secrets</i></a> during winter recess. Snacks will be provided. For children and their caregivers.</p><p>Harry, Ron, and Hermione are in their second year at Hogwarts School of Witchcraft and Wizardry and they must use all they have learned so far to ward off attacks from a mysterious dark force.</p><p>PG. 161 min., 2016. Closed Captions (CC) in English.&nbsp;</p>
LOCATION:Excelsior - Excelsior Meeting Room
CLASS:PUBLIC
TRANSP:TRANSPARENT
END:VEVENT
BEGIN:VALARM
TRIGGER:-PT1440M
ACTION:DISPLAY
DESCRIPTION:Event Reminder - Film: Harry Potter and the Chamber of Secrets
END:VALARM
END:VCALENDAR