BEGIN:VCALENDAR
VERSION:2.0
PRODID:SFPL Web Calendar
BEGIN:VEVENT
UID:133867@sfpl.org
DTSTAMP:20260518T220000Z
DTSTART:20260518T220000Z
DTEND:20260518T230000Z
SUMMARY:Book Club: Golden Gate Valley Library Reading Circle
DESCRIPTION:<p>This month, we will discuss <a href="https://sfpl.bibliocommons.com/v2/record/S93C5549138"><i>A Death in Tokyo</i></a>, available in multiple formats, by <a href="https://en.wikipedia.org/wiki/Keigo_Higashino">Keigo Higashino</a>.</p>
LOCATION:Golden Gate Valley - Golden Gate Valley Meeting Room
CLASS:PUBLIC
TRANSP:TRANSPARENT
END:VEVENT
BEGIN:VALARM
TRIGGER:-PT1440M
ACTION:DISPLAY
DESCRIPTION:Event Reminder - Book Club: Golden Gate Valley Library Reading Circle
END:VALARM
END:VCALENDAR