BEGIN:VCALENDAR
VERSION:2.0
PRODID:SFPL Web Calendar
BEGIN:VEVENT
UID:133868@sfpl.org
DTSTAMP:20260527T220000Z
DTSTART:20260527T220000Z
DTEND:20260527T233000Z
SUMMARY:Film: This Gun for Hire
DESCRIPTION:<p>A professional assassin with a code of honor is betrayed by an employer and is determined to find out why. <a href="https://en.wikipedia.org/wiki/This_Gun_for_Hire"><i>This Gun for Hire</i></a> stars Alan Ladd and Veronica Lake.&nbsp;</p><p>NR, 80 mins., 1942. Closed Captions (CC) in English.</p>
LOCATION:Golden Gate Valley - Golden Gate Valley Meeting Room
CLASS:PUBLIC
TRANSP:TRANSPARENT
END:VEVENT
BEGIN:VALARM
TRIGGER:-PT1440M
ACTION:DISPLAY
DESCRIPTION:Event Reminder - Film: This Gun for Hire
END:VALARM
END:VCALENDAR