BEGIN:VCALENDAR
VERSION:2.0
PRODID:SFPL Web Calendar
BEGIN:VEVENT
UID:135229@sfpl.org
DTSTAMP:20260502T200000Z
DTSTART:20260502T200000Z
DTEND:20260502T213000Z
SUMMARY:Presentation: How to Grow Spectacular San Francisco Roses
DESCRIPTION:<p>Growing roses in the West Portal, Parkside, Forest Hill and St. Francis Woods neighborhoods can be done very successfully. In this presentation you'll learn how to choose and care for roses which will thrive in this unique microclimate, which can occasionally be foggy, windy and cold. You'll learn which roses to plant, the best placement for roses in your garden, routine care and how to troubleshoot and treat problems or disease should they arise. You'll also receive suggestions for companion plants for your roses.</p><p>Space limited. Seats available first come, first served.</p><p>Connect:<strong> </strong><a href="https://smsf-mastergardeners.ucanr.edu/">UCCE Master Gardeners of San Mateo & San Francisco Counties - Website</a></p>
LOCATION:West Portal - West Portal Children's Area
CLASS:PUBLIC
TRANSP:TRANSPARENT
END:VEVENT
BEGIN:VALARM
TRIGGER:-PT1440M
ACTION:DISPLAY
DESCRIPTION:Event Reminder - Presentation: How to Grow Spectacular San Francisco Roses
END:VALARM
END:VCALENDAR