BEGIN:VCALENDAR
VERSION:2.0
PRODID:SFPL Web Calendar
BEGIN:VEVENT
UID:136014@sfpl.org
DTSTAMP:20260612T220000Z
DTSTART:20260612T220000Z
DTEND:20260612T233000Z
SUMMARY:Activity: Rock Painting
DESCRIPTION:<p>Put your imagination to work! Create fun and hands-on designs by painting on rocks. Participants bring home 1-2 decorated creation(s). Please dress accordingly and prepare for the messy fun. For children ages 5 and older.&nbsp;</p>
LOCATION:Anza - Anza Meeting Room
CLASS:PUBLIC
TRANSP:TRANSPARENT
END:VEVENT
BEGIN:VALARM
TRIGGER:-PT1440M
ACTION:DISPLAY
DESCRIPTION:Event Reminder - Activity: Rock Painting
END:VALARM
END:VCALENDAR