BEGIN:VCALENDAR
VERSION:2.0
PRODID:SFPL Web Calendar
BEGIN:VEVENT
UID:136201@sfpl.org
DTSTAMP:20260418T230000Z
DTSTART:20260418T230000Z
DTEND:20260419T000000Z
SUMMARY:Workshop: K-Pop Photocard Decorating
DESCRIPTION:<p>Decorate your favorite photocard. Participants will receive a free top loader and stickers for decorating (while supplies last). Ages 8-17. First come, first served.&nbsp;</p>
LOCATION:Bernal Heights - Bernal Heights Meeting Room
CLASS:PUBLIC
TRANSP:TRANSPARENT
END:VEVENT
BEGIN:VALARM
TRIGGER:-PT1440M
ACTION:DISPLAY
DESCRIPTION:Event Reminder - Workshop: K-Pop Photocard Decorating
END:VALARM
END:VCALENDAR