BEGIN:VCALENDAR
VERSION:2.0
PRODID:SFPL Web Calendar
BEGIN:VEVENT
UID:136399@sfpl.org
DTSTAMP:20260620T220000Z
DTSTART:20260620T220000Z
DTEND:20260620T233000Z
SUMMARY:Film: Archive Alchemy — Queer Art Luminaries Show and Tell
DESCRIPTION:<p>Start with a selection of video interviews featuring LGBTQIA+ artists from E.A.R.T.H. Lab SF’s living archive. Then hear directly from five of the featured artists in a conversation about their work, process and creative lives. The program includes a discussion of the interview archives, reflections and audience Q&A.</p><p>Hosted by Beth Stephens and Annie Sprinkle, this program highlights queer art, archives and creative practice through shared dialogue.&nbsp;</p><p>Connect: <a href="https://earthlabsf.org/">E.A.R.T.H. Lab SF - Website</a> | <a href="https://www.instagram.com/earthlab_sf">E.A.R.T.H. Lab SF - Instagram</a>&nbsp;</p><p>&nbsp;</p><p>&nbsp;</p><p>&nbsp;</p>
LOCATION:Main Library - Koret Auditorium
CLASS:PUBLIC
TRANSP:TRANSPARENT
END:VEVENT
BEGIN:VALARM
TRIGGER:-PT1440M
ACTION:DISPLAY
DESCRIPTION:Event Reminder - Film: Archive Alchemy — Queer Art Luminaries Show and Tell
END:VALARM
END:VCALENDAR