BEGIN:VCALENDAR
VERSION:2.0
PRODID:SFPL Web Calendar
BEGIN:VEVENT
UID:137189@sfpl.org
DTSTAMP:20260221T210000Z
DTSTART:20260221T210000Z
DTEND:20260221T220000Z
SUMMARY:FULL Workshop: Pour & Glow Candle Making
DESCRIPTION:<p>Join Linda Zafra of Soul Gifts USA for a hands-on candle-making class that blends creativity and craftsmanship. You’ll uncover the secrets behind perfect candles—from wax and fragrance choices to pour temperatures and curing magic.</p><p>&nbsp;</p><p>Space limited. Reservations required: (415) 355-2898 (starting February 1).</p>
LOCATION:Ingleside - Ingleside Meeting Room
CLASS:PUBLIC
TRANSP:TRANSPARENT
END:VEVENT
BEGIN:VALARM
TRIGGER:-PT1440M
ACTION:DISPLAY
DESCRIPTION:Event Reminder - FULL Workshop: Pour & Glow Candle Making
END:VALARM
END:VCALENDAR