BEGIN:VCALENDAR
VERSION:2.0
PRODID:SFPL Web Calendar
BEGIN:VEVENT
UID:138297@sfpl.org
DTSTAMP:20260516T180000Z
DTSTART:20260516T180000Z
DTEND:20260516T190000Z
SUMMARY:Book Club: The Last Great Dream
DESCRIPTION:<p>Join us to discuss Dennis McNally's <a href="https://sfpl.bibliocommons.com/v2/record/S93C7217821"><i>The Last Great Dream</i></a>, a history of everything that led to the 1960s counterculture, when long-simmering resistance to American mainstream values birthed the hippie.</p><p>Ortega Book Club meets monthly, with selections alternating between fiction and nonfiction. Newcomers are always welcome!</p>
LOCATION:Ortega - Ortega Meeting Room
CLASS:PUBLIC
TRANSP:TRANSPARENT
END:VEVENT
BEGIN:VALARM
TRIGGER:-PT1440M
ACTION:DISPLAY
DESCRIPTION:Event Reminder - Book Club: The Last Great Dream
END:VALARM
END:VCALENDAR