BEGIN:VCALENDAR
VERSION:2.0
PRODID:SFPL Web Calendar
BEGIN:VEVENT
UID:138897@sfpl.org
DTSTAMP:20260715T223000Z
DTSTART:20260715T223000Z
DTEND:20260716T000000Z
SUMMARY:Activity: LEGO and STEM Free Play
DESCRIPTION:<p>Build and create with LEGO using a huge collection of bricks and mini-figures. Play with Magna-Tiles and other STEM building kits. For children and their caregivers.</p>
LOCATION:Anza - Anza Meeting Room
CLASS:PUBLIC
TRANSP:TRANSPARENT
END:VEVENT
BEGIN:VALARM
TRIGGER:-PT1440M
ACTION:DISPLAY
DESCRIPTION:Event Reminder - Activity: LEGO and STEM Free Play
END:VALARM
END:VCALENDAR