BEGIN:VCALENDAR
VERSION:2.0
PRODID:SFPL Web Calendar
BEGIN:VEVENT
UID:139051@sfpl.org
DTSTAMP:20260128T230000Z
DTSTART:20260128T230000Z
DTEND:20260129T000000Z
SUMMARY:Activity: Talavera Tiles
DESCRIPTION:<p>Paint colorful designs onto tiles and learn about this Mexican folk art. Presented by Diane Levy of The Mexican Museum. For ages 6 and older.</p><p>Connect: <a href="https://www.mexicanmuseum.org/">The Mexican Museum - Website</a></p>
LOCATION:Potrero - Potrero Meeting Room
CLASS:PUBLIC
TRANSP:TRANSPARENT
END:VEVENT
BEGIN:VALARM
TRIGGER:-PT1440M
ACTION:DISPLAY
DESCRIPTION:Event Reminder - Activity: Talavera Tiles
END:VALARM
END:VCALENDAR