BEGIN:VCALENDAR
VERSION:2.0
PRODID:SFPL Web Calendar
BEGIN:VEVENT
UID:144532@sfpl.org
DTSTAMP:20260221T220000Z
DTSTART:20260221T220000Z
DTEND:20260222T000000Z
SUMMARY:Workshop: Physics with Sound
DESCRIPTION:<p>Make your own stringed instruments and learn the science behind sound with teen volunteers of STEM 4 Kids. For ages 6–14.&nbsp;</p>
LOCATION:Ortega - Ortega Meeting Room
CLASS:PUBLIC
TRANSP:TRANSPARENT
END:VEVENT
BEGIN:VALARM
TRIGGER:-PT1440M
ACTION:DISPLAY
DESCRIPTION:Event Reminder - Workshop: Physics with Sound
END:VALARM
END:VCALENDAR