BEGIN:VCALENDAR
VERSION:2.0
PRODID:SFPL Web Calendar
BEGIN:VEVENT
UID:145000@sfpl.org
DTSTAMP:20260501T223000Z
DTSTART:20260501T223000Z
DTEND:20260502T003000Z
SUMMARY:Film: City on Fire
DESCRIPTION:<p>This gritty Hong Kong crime thriller follows undercover cop Ko Chow (Chow Yun-fat) as he infiltrates a ruthless gang of jewel thieves, only to find his loyalties dangerously divided. Directed by Ringo Lam (Full Contact), the film delivers explosive action and moral ambiguity in equal measure. Newly restored, this influential classic is widely recognized as a key inspiration for Quentin Tarantino’s Reservoir Dogs.</p><p>NR, 105 mins., 1987. Closed captions (CC) in English.</p>
LOCATION:Excelsior - Excelsior Meeting Room
CLASS:PUBLIC
TRANSP:TRANSPARENT
END:VEVENT
BEGIN:VALARM
TRIGGER:-PT1440M
ACTION:DISPLAY
DESCRIPTION:Event Reminder - Film: City on Fire
END:VALARM
END:VCALENDAR