BEGIN:VCALENDAR
VERSION:2.0
PRODID:SFPL Web Calendar
BEGIN:VEVENT
UID:145032@sfpl.org
DTSTAMP:20260409T013000Z
DTSTART:20260409T013000Z
DTEND:20260409T023000Z
SUMMARY:Performance: Bel Canto Flutes in Concert
DESCRIPTION:<p><strong>Bel Canto flutes is an adult Flute Choir a repertoire spans the ages and genres all played on flutes of different sizes and shapes.</strong> Join us as we share our joy of music making with you.</p><p>Space is limited. Please sign up at (415) 355-2810 or at the upstairs reference desk.</p>
LOCATION:Bernal Heights - Bernal Heights Meeting Room
CLASS:PUBLIC
TRANSP:TRANSPARENT
END:VEVENT
BEGIN:VALARM
TRIGGER:-PT1440M
ACTION:DISPLAY
DESCRIPTION:Event Reminder - Performance: Bel Canto Flutes in Concert
END:VALARM
END:VCALENDAR