BEGIN:VCALENDAR
VERSION:2.0
PRODID:SFPL Web Calendar
BEGIN:VEVENT
UID:145368@sfpl.org
DTSTAMP:20260422T013000Z
DTSTART:20260422T013000Z
DTEND:20260422T023000Z
SUMMARY:Presentation: Clay and Culture
DESCRIPTION:<p>This insightful tour of the museum’s collection traces the development of ceramic art from its ancient origins, revealing the wide-ranging influence of Chinese ceramics on ceramic traditions across Asia and worldwide. Speaker: Mary Mead. This event is a partnership with the Asian Art Museum Docent Program.<br><br>&nbsp;</p>
LOCATION:Virtual Library
CLASS:PUBLIC
TRANSP:TRANSPARENT
END:VEVENT
BEGIN:VALARM
TRIGGER:-PT1440M
ACTION:DISPLAY
DESCRIPTION:Event Reminder - Presentation: Clay and Culture
END:VALARM
END:VCALENDAR