BEGIN:VCALENDAR
VERSION:2.0
PRODID:SFPL Web Calendar
BEGIN:VEVENT
UID:145374@sfpl.org
DTSTAMP:20260219T220000Z
DTSTART:20260219T220000Z
DTEND:20260220T000000Z
SUMMARY:Workshop: Heart Fill Sampler
DESCRIPTION:<p>Embroider a heart sampler pattern with feather, back, fern and stem stitches. Basic sewing skills required. Instruction in English. Space is limited. Reservations required (by phone or in person only): (415) 355- 2888 (starting February 3).&nbsp;&nbsp;&nbsp;&nbsp;&nbsp;&nbsp;</p>
LOCATION:Chinatown/Him Mark Lai - Chinatown Meeting Room
CLASS:PUBLIC
TRANSP:TRANSPARENT
END:VEVENT
BEGIN:VALARM
TRIGGER:-PT1440M
ACTION:DISPLAY
DESCRIPTION:Event Reminder - Workshop: Heart Fill Sampler
END:VALARM
END:VCALENDAR