BEGIN:VCALENDAR
VERSION:2.0
PRODID:SFPL Web Calendar
BEGIN:VEVENT
UID:145509@sfpl.org
DTSTAMP:20260625T220000Z
DTSTART:20260625T220000Z
DTEND:20260625T230000Z
SUMMARY:Activity: LEGO Motorcars
DESCRIPTION:<p>Build a motorized vehicle using our LEGO kits, then customize and play with it.&nbsp;For children ages 5 and older.</p>
LOCATION:Ingleside - Ingleside Children's Area
CLASS:PUBLIC
TRANSP:TRANSPARENT
END:VEVENT
BEGIN:VALARM
TRIGGER:-PT1440M
ACTION:DISPLAY
DESCRIPTION:Event Reminder - Activity: LEGO Motorcars
END:VALARM
END:VCALENDAR