BEGIN:VCALENDAR
VERSION:2.0
PRODID:SFPL Web Calendar
BEGIN:VEVENT
UID:145741@sfpl.org
DTSTAMP:20260313T000000Z
DTSTART:20260313T000000Z
DTEND:20260313T010000Z
SUMMARY:Performance: The San Francisco Symphony
DESCRIPTION:<p>Enjoy an evening of music with the San Francisco Symphony’s Community Chamber Concert program, with cellist Anne Richardson and bassist Dan Smith.</p><p>This program brings small ensembles to community spaces across San Francisco.&nbsp;</p><p>These free concerts are an opportunity to get to know SF Symphony musicians and see them perform in an intimate setting.</p><p>About <a href="https://www.sfsymphony.org/About-SFS/SF-Symphony-Musicians">Anne Richardson and Dan Smith</a>.</p>
LOCATION:Excelsior - Excelsior General Floor Area
CLASS:PUBLIC
TRANSP:TRANSPARENT
END:VEVENT
BEGIN:VALARM
TRIGGER:-PT1440M
ACTION:DISPLAY
DESCRIPTION:Event Reminder - Performance: The San Francisco Symphony
END:VALARM
END:VCALENDAR