BEGIN:VCALENDAR
VERSION:2.0
PRODID:SFPL Web Calendar
BEGIN:VEVENT
UID:145745@sfpl.org
DTSTAMP:20260222T223000Z
DTSTART:20260222T223000Z
DTEND:20260222T233000Z
SUMMARY:Performance: The San Francisco Symphony
DESCRIPTION:<p>Enjoy an afternoon of music with cellist Anne Richardson, violinist Jessie Fellows and violist Katie Kadarauch.&nbsp;</p><p>The San Francisco Symphony’s Community Chamber Concert program brings small ensembles to community spaces across San Francisco. These free concerts are an opportunity to get to know SF Symphony musicians and see them perform in an intimate setting.</p><p>Learn more about the musicians here: <a href="https://www.sfsymphony.org/About-SFS/SF-Symphony-Musicians">Musicians at the San Francisco Symphony</a></p>
LOCATION:Parkside - Parkside General Floor Area
CLASS:PUBLIC
TRANSP:TRANSPARENT
END:VEVENT
BEGIN:VALARM
TRIGGER:-PT1440M
ACTION:DISPLAY
DESCRIPTION:Event Reminder - Performance: The San Francisco Symphony
END:VALARM
END:VCALENDAR