BEGIN:VCALENDAR
VERSION:2.0
PRODID:SFPL Web Calendar
BEGIN:VEVENT
UID:145861@sfpl.org
DTSTAMP:20260218T230000Z
DTSTART:20260218T230000Z
DTEND:20260219T000000Z
SUMMARY:Workshop: Slime Time
DESCRIPTION:<p>Flex your inner chemist skills and mix household ingredients to make slime. For ages 7 and older. Space limited. Seats available first come, first served.</p>
LOCATION:Potrero - Potrero Meeting Room
CLASS:PUBLIC
TRANSP:TRANSPARENT
END:VEVENT
BEGIN:VALARM
TRIGGER:-PT1440M
ACTION:DISPLAY
DESCRIPTION:Event Reminder - Workshop: Slime Time
END:VALARM
END:VCALENDAR