BEGIN:VCALENDAR
VERSION:2.0
PRODID:SFPL Web Calendar
BEGIN:VEVENT
UID:145980@sfpl.org
DTSTAMP:20260422T230000Z
DTSTART:20260422T230000Z
DTEND:20260423T000000Z
SUMMARY:Services: Math Tutoring
DESCRIPTION:<p>Improve your math skills with one-to-one math support in basic math through Algebra. Tutoring is provided by Lowell High School students. Please bring mathematics homework or math problems to work on, as the tutors will not be providing work. Seats available first come, first served. For children ages 6<strong>–</strong>14.</p>
LOCATION:Visitacion Valley - Visitacion Valley Meeting Room
CLASS:PUBLIC
TRANSP:TRANSPARENT
END:VEVENT
BEGIN:VALARM
TRIGGER:-PT1440M
ACTION:DISPLAY
DESCRIPTION:Event Reminder - Services: Math Tutoring
END:VALARM
END:VCALENDAR